BEGIN:VCALENDAR
VERSION:2.0
PRODID:-//Fondation SJDC - ECPv5.16.0//NONSGML v1.0//EN
CALSCALE:GREGORIAN
METHOD:PUBLISH
X-WR-CALNAME:Fondation SJDC
X-ORIGINAL-URL:https://www.fondationsjdc.org
X-WR-CALDESC:évènements pour Fondation SJDC
BEGIN:VTIMEZONE
TZID:America/New_York
BEGIN:DAYLIGHT
TZOFFSETFROM:-0500
TZOFFSETTO:-0400
TZNAME:EDT
DTSTART:20200308T070000
END:DAYLIGHT
BEGIN:STANDARD
TZOFFSETFROM:-0400
TZOFFSETTO:-0500
TZNAME:EST
DTSTART:20201101T060000
END:STANDARD
END:VTIMEZONE
BEGIN:VEVENT
DTSTART;TZID=America/New_York:20200712T140000
DTEND;TZID=America/New_York:20200712T150000
DTSTAMP:20260421T101834
CREATED:20200723T011830Z
LAST-MODIFIED:20200723T043131Z
UID:3024-1594562400-1594566000@www.fondationsjdc.org
SUMMARY:TOUT DIRE EN DANSANT AUTOUR DU MONDE 12 juillet et 16 août 2020
DESCRIPTION:ACTIVITÉS FAMILIALES SUR LE SITE PATRIMONIAL SAINTE-JEANNE-DE-CHANTAL \nNotre-Dame-de-l’Île-Perrot\, 6 juillet 2020 — Le site patrimonial Sainte-Jeanne-de-Chantal au 1 rue de l’Église à Notre-Dame-de-l’Île-Perrot est animé au cours de l’été avec des activités familiales offertes gratuitement tout en respectant les règles de distanciation et consignes de la santé publique. \nLe spectacle interactif « Tout dire en dansant autour du monde » du Théâtre de la Chapelle sera présenté au grand public dans les jardins du presbytère de Sainte-Jeanne-de-Chantal les 12 juillet et 16 août à 14 h. Shantal Nicole artiste-chorégraphe et Daniel Bertolino directeur artistique sont les créateurs de ce spectacle-atelier festif en chanson\, en danse du monde et en jeux corporels. Costume de Johanne Ducharme. \n \nLe théâtre de la chapelle se réinvente en raison de la pandémie et se déplace chez vous. \nNous faisons un pied de nez à la pandémie en chanson\, en danse du monde et jeux corporels. \nTOUT DIRE EN DANSANT AUTOUR DU MONDE \nau programme \n\nLa danse d’Apaniiwa\, un monarque surdimensionné pour introduire le changement et les métamorphoses.\nLa danse flamenco avec son rythme fougueux\nLa danse amérindienne pour énergiser la Terre-Mère\nLe chant de l’eau en langue algonquine pour rêver\nLa percussion corporelle en question-réponse pour interpeller le nouvel étranger\nLa danse des rennes du Kamchatka pour imiter la nature et sa résilience\nLa danse des singes de la Thailande pour rire et se surprendre\net la gigue québécoise traditionnelle pour nous rappeler que nos ancêtres nous ont légué notre tempérament d’avoir la couenne dure\n\n \n  \nPrix de présence gracieuseté de la Caisse Desjardins de Vaudreuil-Soulanges : un panier de victuailles du terroir d’une valeur de 100 $ en provenance de la Ferme Quinn et du Verger Labonté. \n  \nDe plus le Théâtre de la chapelle vous ouvre ses portes avec une installation décor-son-lumière avec les personnages haut en couleur de Johanne Ducharme\, une conception de Daniel Bertolino et à la technique Samuel Thériault. \nMême horaire que les visites guidées. \n \nVisite guidée de l’église historique Sainte-Jeanne-de-Chantal tout en respectant les consignes de distanciation de la santé publique. \nDu 24 juin au 16 août mercredi à dimanche de 10 h à 16 h \nAprès le 16 août jusqu’au 7 septembre toutes les fins de semaine de 10 h à 16 h \n  \n  \n  \n 
URL:https://www.fondationsjdc.org/activites/tout-dire-en-dansant-autour-du-monde/
ATTACH;FMTTYPE=image/jpeg:https://www.fondationsjdc.org/wp-content/uploads/FPSJC_juin4.jpg
ORGANIZER;CN="Shantal%20Nicole":MAILTO:fsjdc.ndip@gmail.com
END:VEVENT
END:VCALENDAR